BEGIN:VCALENDAR
VERSION:2.0
PRODID:-//YogAlign - ECPv6.15.17.1//NONSGML v1.0//EN
CALSCALE:GREGORIAN
METHOD:PUBLISH
X-WR-CALNAME:YogAlign
X-ORIGINAL-URL:https://yogalign.com
X-WR-CALDESC:Events for YogAlign
REFRESH-INTERVAL;VALUE=DURATION:PT1H
X-Robots-Tag:noindex
X-PUBLISHED-TTL:PT1H
BEGIN:VTIMEZONE
TZID:Pacific/Auckland
BEGIN:STANDARD
TZOFFSETFROM:+1300
TZOFFSETTO:+1200
TZNAME:NZST
DTSTART:20180331T140000
END:STANDARD
BEGIN:DAYLIGHT
TZOFFSETFROM:+1200
TZOFFSETTO:+1300
TZNAME:NZDT
DTSTART:20180929T140000
END:DAYLIGHT
BEGIN:STANDARD
TZOFFSETFROM:+1300
TZOFFSETTO:+1200
TZNAME:NZST
DTSTART:20190406T140000
END:STANDARD
BEGIN:DAYLIGHT
TZOFFSETFROM:+1200
TZOFFSETTO:+1300
TZNAME:NZDT
DTSTART:20190928T140000
END:DAYLIGHT
BEGIN:STANDARD
TZOFFSETFROM:+1300
TZOFFSETTO:+1200
TZNAME:NZST
DTSTART:20200404T140000
END:STANDARD
BEGIN:DAYLIGHT
TZOFFSETFROM:+1200
TZOFFSETTO:+1300
TZNAME:NZDT
DTSTART:20200926T140000
END:DAYLIGHT
END:VTIMEZONE
BEGIN:VEVENT
DTSTART;TZID=Pacific/Auckland:20190401T080000
DTEND;TZID=Pacific/Auckland:20190406T170000
DTSTAMP:20260420T225040
CREATED:20180216T010318Z
LAST-MODIFIED:20181128T084435Z
UID:10000007-1554105600-1554570000@yogalign.com
SUMMARY:New Zealand North Island - YogAlign Teacher Training- April 1- 6\, 2019
DESCRIPTION:YogAlign Teacher Training\nMonday to Saturday April 1- 6\, 2019 \nGet your certification to teach YogAlign at a spectacular beachfront location on New Zealand’s north island at the Mangawhai Surf Club. This course is instructed by Michaelle Edwards\, creator of YogAlign and FitAlign Posture Trainings. This course is suitable for all ages and fitness levels and no previous experience with yoga is required. The course is open to anyone interested in teaching posture education including yogis\, bodyworkers\, physical therapists & trainers\, athletes\, athletic trainers\, fitness and wellness educators. Course includes a copy of the YogAlign book which will be emailed to participants who have registered and paid the course tuition. The YogAlign book is required reading for the course as well as anatomy worksheets which must be completed before the course start date. Accommodations are available nearby to share with other students. North Island New Zealand this time of year is late summer/early fall and usually warm and sunny. There are hikes nearby and access to great health food stores and everything you need to be nourished in body and soul. Go surfing on the lunch break as the beachfront location also includes easy parking and access to a large kitchen. contact Michaelle at yogalignkauai@gmail.com for more information. \nClass schedule\nMorning session  8 am- 12:00 pm\nLunch\nAfternoon session 1:00 pm – 4:00 pm \nGo to the link below to learn more about YogAlign courses and to complete the student information form \nTuition\n$850.00 USD \nPay Below via PayPal or contact Michaelle to pay by bank transfer.
URL:https://yogalign.com/event/new-zealand-10-day-yogalign-training-nov-2018/
LOCATION:Mangawhai Head Surf Club\, Wintle St\, Mangawhai Heads 0505\,\, New Zealand
CATEGORIES:YogAlign Trainings and Workshops
ATTACH;FMTTYPE=image/jpeg:https://yogalign.com/wp-content/uploads/2018/02/mangawhai-153969094-59413cd75f9b58d58a6a3a87.jpg
GEO:-36.0826878;174.5922471
X-APPLE-STRUCTURED-LOCATION;VALUE=URI;X-ADDRESS=Mangawhai Head Surf Club Wintle St Mangawhai Heads 0505 New Zealand;X-APPLE-RADIUS=500;X-TITLE=Wintle St:geo:174.5922471,-36.0826878
END:VEVENT
END:VCALENDAR